BEGIN:VCALENDAR
VERSION:2.0
PRODID:-//Kennedy String Quartet - ECPv6.15.20//NONSGML v1.0//EN
CALSCALE:GREGORIAN
METHOD:PUBLISH
X-WR-CALNAME:Kennedy String Quartet
X-ORIGINAL-URL:https://www.kennedyquartet.com
X-WR-CALDESC:Events for Kennedy String Quartet
REFRESH-INTERVAL;VALUE=DURATION:PT1H
X-Robots-Tag:noindex
X-PUBLISHED-TTL:PT1H
BEGIN:VTIMEZONE
TZID:UTC
BEGIN:STANDARD
TZOFFSETFROM:+0000
TZOFFSETTO:+0000
TZNAME:UTC
DTSTART:20200101T000000
END:STANDARD
END:VTIMEZONE
BEGIN:VEVENT
DTSTART;TZID=UTC:20210707T183000
DTEND;TZID=UTC:20210707T193500
DTSTAMP:20260424T120301
CREATED:20210705T201725Z
LAST-MODIFIED:20210707T202251Z
UID:1879-1625682600-1625686500@www.kennedyquartet.com
SUMMARY:Candlelight Open Air: Featuring Vivaldi’s Four Seasons and More
DESCRIPTION:Tickets available for purchase here. \nHire us for your event! Click here to get a quote. \n🎫 Ticket for 2 people \nSeating is assigned on a first come first served basis \nWhat You Will Enjoy\n🕯️ An intimate ambience in a beautiful venue bathed in candlelight\n🎻 A talented string quartet performing classical pieces by Vivaldi & more\n🌃 A stunning open-air experience at St. Francis Hall\n✔️ A safe\, comfortable and socially-distanced event \nGeneral Info\n📍 Venue: St. Francis Hall in Washington\, DC\n📅 Date and time: various dates at 6:30pm and 9pm (select during purchase)\n⏳ Duration: 65 minutes (doors open 1 hour prior to the start time and late entry is not permitted)\n👤 Age requirement: 10 years old or older. Anyone under the age of 16 must be accompanied by an adult\n♿ Accessibility: this venue is ADA compliant\n❓ View the FAQs for this event here\n🔗 Your safety is Fever’s priority. You can read the safety measures for this event here \nTentative Program \n\nAntonio Vivaldi: Summer from The Four Seasons\nMax Richter: “Spring 1” from Vivaldi Recomposed Four Seasons\nAstor Piazzolla: Libertango\nAstor Piazzolla: Oblivion\nAstor Piazzolla: Verano Porteño from The Cuatro Estaciones Porteñas\nCamille Saint-Saëns: Le Cygne (The Swan) from The Carnival of the Animals\nMeditation from Thais\nAntonio Vivaldi: Winter from The Four Seasons\n\nPerformers \n\nThe Listeso String Quartet\n\nDescription\nWhether you’re looking for a beautifully unique classical music performance or a romantic candlelit experience\, this performance is for you. You don’t need to know all things Vivaldi to enjoy the evening; simply sit back and savor the stunning atmosphere and pieces you’ll hear. Join our musicians for an evening gently illuminated by candlelight\, and prepare to be taken into the clouds with Vivaldi’s most treasured masterpieces! \nUser Reviews\n💬 Penny D. ⭐⭐⭐⭐⭐: “beautiful experience\, amazing background\, phenomenal performance!”\n💬 Vicki B. ⭐⭐⭐⭐⭐: “Thoroughly pleasant way to spend an evening! The musicians were fabulous and I enjoyed all”\n💬 Karmyn O. ⭐⭐⭐⭐⭐: “The most magical\, intimate experience I’ve had in a long time. I look forward to the next secret show”
URL:https://www.kennedyquartet.com/concert/candlelight-open-air-featuring-vivaldis-four-seasons-and-more/
LOCATION:St. Francis Hall\, Washington DC\, DC\, US
CATEGORIES:Candlelight Open Air: Vivaldi’s Four Seasons,Washington, DC
ATTACH;FMTTYPE=image/jpeg:https://www.kennedyquartet.com/wp-content/uploads/2021/07/candlelight-featured-0d6a47b2-6258-11eb-b783-06551cb39bc6-9nV4pG.tmp_.jpg
END:VEVENT
END:VCALENDAR